BEGIN:VCALENDAR
VERSION:2.0
PRODID:-//SAINT-LOUIS-LES-BITCHE - ECPv6.15.20//NONSGML v1.0//EN
CALSCALE:GREGORIAN
METHOD:PUBLISH
X-ORIGINAL-URL:https://saintlouislesbitche.fr
X-WR-CALDESC:Évènements pour SAINT-LOUIS-LES-BITCHE
REFRESH-INTERVAL;VALUE=DURATION:PT1H
X-Robots-Tag:noindex
X-PUBLISHED-TTL:PT1H
BEGIN:VTIMEZONE
TZID:Europe/Paris
BEGIN:DAYLIGHT
TZOFFSETFROM:+0100
TZOFFSETTO:+0200
TZNAME:CEST
DTSTART:20240331T010000
END:DAYLIGHT
BEGIN:STANDARD
TZOFFSETFROM:+0200
TZOFFSETTO:+0100
TZNAME:CET
DTSTART:20241027T010000
END:STANDARD
BEGIN:DAYLIGHT
TZOFFSETFROM:+0100
TZOFFSETTO:+0200
TZNAME:CEST
DTSTART:20250330T010000
END:DAYLIGHT
BEGIN:STANDARD
TZOFFSETFROM:+0200
TZOFFSETTO:+0100
TZNAME:CET
DTSTART:20251026T010000
END:STANDARD
BEGIN:DAYLIGHT
TZOFFSETFROM:+0100
TZOFFSETTO:+0200
TZNAME:CEST
DTSTART:20260329T010000
END:DAYLIGHT
BEGIN:STANDARD
TZOFFSETFROM:+0200
TZOFFSETTO:+0100
TZNAME:CET
DTSTART:20261025T010000
END:STANDARD
BEGIN:DAYLIGHT
TZOFFSETFROM:+0100
TZOFFSETTO:+0200
TZNAME:CEST
DTSTART:20270328T010000
END:DAYLIGHT
BEGIN:STANDARD
TZOFFSETFROM:+0200
TZOFFSETTO:+0100
TZNAME:CET
DTSTART:20271031T010000
END:STANDARD
END:VTIMEZONE
BEGIN:VEVENT
DTSTART;TZID=Europe/Paris:20260412T090000
DTEND;TZID=Europe/Paris:20260412T180000
DTSTAMP:20260421T121455
CREATED:20260215T170432Z
LAST-MODIFIED:20260304T072814Z
UID:8154-1775984400-1776016800@saintlouislesbitche.fr
SUMMARY:Marché Paysan de l'AMEM 
DESCRIPTION:Saint-Louis-lès-Bitche \n\n\n\nLe Marché Paysan de l’AMEM vous donne rendez-vous le dimanche 12 avril 2026\, de 10h à 18h\, sur la Place de la Mairie. Un évènement organisé en collaboration avec la commune de St Louis-Lès-Bitche et soutenu par le Conseil Départemental de la Moselle et Moselle Attractivité.En partenariat avec  : LA GRANDE PLACE MUSÉE DU CRISTAL SAINT-LOUISL’ASSOCIATION ARBORICOLE DU HERREGARTEN DE SAINT LOUIS-LÈS-BITCHEFOOTBALL CLUB SAINT LOUIS 2017L’AMICALE DES SAPEURS-POMPIERS DE SAINT LOUIS-LÈS-BITCHERejoignez-nous pour (re)découvrir les délicieux produits des Vosges Mosellanes et Qualité MOSL. Tout au long de la journée\, vous pourrez déguster des plats paysans fraîchement préparés par les producteurs et les associations locales. 
URL:https://saintlouislesbitche.fr/event/marche-paysan-de-lamem
ATTACH;FMTTYPE=image/jpeg:https://saintlouislesbitche.fr/wp-content/uploads/2026/03/Affiche.jpg
END:VEVENT
BEGIN:VEVENT
DTSTART;TZID=Europe/Paris:20260407T100000
DTEND;TZID=Europe/Paris:20260412T100000
DTSTAMP:20260421T121455
CREATED:20260313T082744Z
LAST-MODIFIED:20260313T082745Z
UID:8175-1775556000-1775988000@saintlouislesbitche.fr
SUMMARY:Journées Européennes des métier d'Art
DESCRIPTION:Les rendez-vous d’exception : visite de la manufacture du 7 au 10 avril Visite guidée gratuite.Du 7 au 10 avril à 11h (durée de la visite : 1h30).Sur réservation\, hors groupe (sous réserve de places disponibles). \n\n\n\n À la rencontre des artisans tailleurs les 11 et 12 avril 2026: Démonstration toutes les 30 minutes.Samedi 11 avril (après-midi)\, de 14h15 à 17h15.Dimanche 12 avril (journée)\, de 10h30 à 12h et de 14h15 à 17h15.Entrée gratuite au musée\, de 10h à 18h.
URL:https://saintlouislesbitche.fr/event/journees-europeennes-des-metier-dart
LOCATION:Rue Coetlosquet 57620 Saint Louis les Bitche
ATTACH;FMTTYPE=image/jpeg:https://saintlouislesbitche.fr/wp-content/uploads/2026/03/JEMA.jpg
ORGANIZER;CN="La Grande Place Mus%C3%A9e du cristal Saint-Louis":MAILTO:accueil.musee@saint-louis.com
END:VEVENT
BEGIN:VEVENT
DTSTART;TZID=Europe/Paris:20260222T110000
DTEND;TZID=Europe/Paris:20260222T170000
DTSTAMP:20260421T121455
CREATED:20251222T080745Z
LAST-MODIFIED:20251222T134715Z
UID:8029-1771758000-1771779600@saintlouislesbitche.fr
SUMMARY:Dejeuner Dansant
DESCRIPTION:Déjeuner Dansant – FC Saint-Louis 2017  \n\n\n\nLe Football Club Saint-Louis 2017 est heureux de vous inviter à son traditionnel Déjeuner Dansant dans la Salle de St-Louis-lès-Bitche\, À partir de 11h \n\n\n\nRéservation jusqu’au 12 février \n\n\n\n Marc : 06 09 77 31 72 \n\n\n\n Mathéo : 07 86 61 65 67
URL:https://saintlouislesbitche.fr/event/dejeuner-dansant-3
ATTACH;FMTTYPE=image/jpeg:https://saintlouislesbitche.fr/wp-content/uploads/2025/12/DD_22022026.jpg
END:VEVENT
BEGIN:VEVENT
DTSTART;TZID=Europe/Paris:20260215T090000
DTEND;TZID=Europe/Paris:20260215T170000
DTSTAMP:20260421T121455
CREATED:20251210T151524Z
LAST-MODIFIED:20260107T171453Z
UID:8025-1771146000-1771174800@saintlouislesbitche.fr
SUMMARY:Marche d'hiver et Speeckfest
DESCRIPTION:
URL:https://saintlouislesbitche.fr/event/marche-dhiver-et-speeckfest
ATTACH;FMTTYPE=image/jpeg:https://saintlouislesbitche.fr/wp-content/uploads/2025/12/IMG-20260106-WA0004.jpg
END:VEVENT
BEGIN:VEVENT
DTSTART;TZID=Europe/Paris:20251207T150000
DTEND;TZID=Europe/Paris:20251207T180000
DTSTAMP:20260421T121455
CREATED:20251113T084606Z
LAST-MODIFIED:20251113T084801Z
UID:7976-1765119600-1765130400@saintlouislesbitche.fr
SUMMARY:Concert de Noël à l'église
DESCRIPTION:Le dimanche 07 décembre à 15 h 00\, le chœur Allegria repassera au pays de Bitche et donnera un grand concert de Noël en l’église de Saint Louis-lès-Bitche. La formation mixte forte de près de 30 choristes\, originaire de Hambach\, est placée sous la direction de Geneviève Sattler et accompagnée par la pianiste Anne Kihn\, Elle proposera un magnifique florilège de chants pour le temps de l’avent et de Noël. Avec de nombreux messages de paix à la clé. \n\n\n\nLe concert se déroulera à proximité immédiate de la crèche monumentale de Noël que le public pourra découvrir pour la première fois cette année. A l’issue du concert\, le conseil de Fabrique proposera vin chaud et Bredele aux spectateurs présents \n\n\n\nEntrée gratuite – plateau au profit de la paroisse et destiné à l’entretien de l’église
URL:https://saintlouislesbitche.fr/event/concert-de-noel-a-leglise
ATTACH;FMTTYPE=image/jpeg:https://saintlouislesbitche.fr/wp-content/uploads/2025/11/Affiche-concert-Choeur-Allegria-2025.jpg
END:VEVENT
BEGIN:VEVENT
DTSTART;TZID=Europe/Paris:20251207T130000
DTEND;TZID=Europe/Paris:20260111T170000
DTSTAMP:20260421T121455
CREATED:20251208T171149Z
LAST-MODIFIED:20251208T171151Z
UID:8019-1765112400-1768150800@saintlouislesbitche.fr
SUMMARY:Visitez la crèche de Noel
DESCRIPTION:Cet événement est ouvert au public \n\n\n\nDu 07 décembre 2025au 11 janvier 2026de 13h00 à 17h00
URL:https://saintlouislesbitche.fr/event/visitez-la-creche-de-noel
ATTACH;FMTTYPE=image/jpeg:https://saintlouislesbitche.fr/wp-content/uploads/2025/12/Creche_2025.jpg
END:VEVENT
BEGIN:VEVENT
DTSTART;TZID=Europe/Paris:20251201T100000
DTEND;TZID=Europe/Paris:20251231T180000
DTSTAMP:20260421T121455
CREATED:20251108T155638Z
LAST-MODIFIED:20251108T155639Z
UID:7952-1764583200-1767204000@saintlouislesbitche.fr
SUMMARY:Saison de noël 2025
DESCRIPTION:Programmation_Saison-de-Noel_2025\n\n\nHabit de lumières -Installation Lumineuse  \n\n\n\nDu 1er au 31 décembre 2025\, sauf les 25 décembre et 1 janvier. Du mardi au dimanche de 10h à 13h et de 14h à 18h\, sauf les 24 et 31 décembre jusqu’à 16h.Sans supplément au billet d’entrée du musée (tarif plein 8 € et tarif réduit 4 €)
URL:https://saintlouislesbitche.fr/event/saison-de-noel-2025
LOCATION:Rue Coetlosquet 57620 Saint Louis les Bitche
ORGANIZER;CN="La Grande Place Mus%C3%A9e du cristal Saint-Louis":MAILTO:accueil.musee@saint-louis.com
END:VEVENT
BEGIN:VEVENT
DTSTART;TZID=Europe/Paris:20251129T180000
DTEND;TZID=Europe/Paris:20251129T233000
DTSTAMP:20260421T121455
CREATED:20251020T202635Z
LAST-MODIFIED:20251020T202719Z
UID:7905-1764439200-1764459000@saintlouislesbitche.fr
SUMMARY:Soirée Beaujolais
DESCRIPTION:Animation musicale\, buffet froid  repas dessert café et vin compris pour 30€. Uniquement sur réservation :07.86.61.65.67 ou 06.09.77.31.72 avant le 22 novembre
URL:https://saintlouislesbitche.fr/event/soiree-beaujolais
ATTACH;FMTTYPE=image/jpeg:https://saintlouislesbitche.fr/wp-content/uploads/2025/10/soiree_beaujolais.jpg
END:VEVENT
BEGIN:VEVENT
DTSTART;TZID=Europe/Paris:20251115T100000
DTEND;TZID=Europe/Paris:20251123T180000
DTSTAMP:20260421T121455
CREATED:20251010T093724Z
LAST-MODIFIED:20251010T093904Z
UID:7879-1763200800-1763920800@saintlouislesbitche.fr
SUMMARY:Les jours en cristal
DESCRIPTION:Ventes exceptionnelles à la manufacture et à distance. Du samedi 15 Novembre au 23 novembre de 10h00 à 18h00
URL:https://saintlouislesbitche.fr/event/les-jours-en-cristal
ATTACH;FMTTYPE=image/jpeg:https://saintlouislesbitche.fr/wp-content/uploads/2025/10/VP_fr.jpg
END:VEVENT
BEGIN:VEVENT
DTSTART;TZID=Europe/Paris:20251106T100000
DTEND;TZID=Europe/Paris:20260405T180000
DTSTAMP:20260421T121455
CREATED:20260123T084644Z
LAST-MODIFIED:20260123T084645Z
UID:8129-1762423200-1775412000@saintlouislesbitche.fr
SUMMARY:«Éclats du crépuscule»
DESCRIPTION:La Fondation d’entreprise Hermès présente «Éclats du crépuscule»\, une expositiondes artistes Camille Fischer\, François Génot et Nicolas Schneider à La GrandePlace\, espace d’exposition du musée Saint-Louis.«Éclats du crépuscule» s’inscrit dans le cycle d’une programmation développéeen partenariat avec le Musée d’Art moderne et contemporain de Strasbourg(MAMCS) qui s’est vu confier\, par la Fondation\, le commissariat de La Grande Placede 2025 à 2027.
URL:https://saintlouislesbitche.fr/event/eclats-du-crepuscule
ATTACH;FMTTYPE=image/jpeg:https://saintlouislesbitche.fr/wp-content/uploads/2024/03/BTeillet.jpg
ORGANIZER;CN="La Grande Place Mus%C3%A9e du cristal Saint-Louis":MAILTO:accueil.musee@saint-louis.com
END:VEVENT
BEGIN:VEVENT
DTSTART;TZID=Europe/Paris:20251001T110000
DTEND;TZID=Europe/Paris:20251001T123000
DTSTAMP:20260421T121455
CREATED:20250903T163830Z
LAST-MODIFIED:20250903T164528Z
UID:7745-1759316400-1759321800@saintlouislesbitche.fr
SUMMARY:Eveil des sens tous les mercredis du mois d’octobre
DESCRIPTION:Visite sensorielle de la manufacture  \n\n\n\nImage © JP. MesguenÀ l’occasion d’Eveil des sens\, la Grande Place\, musée Saint-Louis vous propose de découvrir lamanufacture à travers une visite sensorielle insolite\, tous les mercredis du mois d’octobre.Fondée sur la notion de perception\, cette expérience originale sollicite tous vos sens\, à l’exception de lavue\, en visitant les ateliers dits « du chaud » et « du froid » autrement.Guidez par les sons\, l’odorat ou le toucher\, laissez-vous aller à votre imagination !Mercredis 1\, 8\, 15\, 22 & 29 octobre à 11hDurée : 1h30Sur réservation uniquementGratuitMerci de nous préciser les éventuelles sensibilités au vertige\, au bruit\, à la chaleur et/ou situation dehandicap.L’entrée au musée sera exceptionnellement gratuite pour les personnes en situation de handicap au moisd’octobre\, sur présentation d’un justificatif.Plus d’informations sur la programmation Éveil des sens : parc-vosges-nord.fr
URL:https://saintlouislesbitche.fr/event/eveil-des-sens-tous-les-mercredis-du-mois-doctobre
ATTACH;FMTTYPE=image/jpeg:https://saintlouislesbitche.fr/wp-content/uploads/2025/09/JPM6343-cmjn-jpmesguen-BD-compresse-scaled.jpg
END:VEVENT
BEGIN:VEVENT
DTSTART;TZID=Europe/Paris:20250921T110000
DTEND;TZID=Europe/Paris:20250921T180000
DTSTAMP:20260421T121455
CREATED:20250830T165804Z
LAST-MODIFIED:20250830T170058Z
UID:7738-1758452400-1758477600@saintlouislesbitche.fr
SUMMARY:Déjeuner Dansant
DESCRIPTION:Le football club organise un déjeuner dansant\, au menu Paella dans la salle Joseph Megly de Saint louis les Bitche
URL:https://saintlouislesbitche.fr/event/dejeuner-dansant
ATTACH;FMTTYPE=image/jpeg:https://saintlouislesbitche.fr/wp-content/uploads/2025/08/IMG-20250830-WA0008.jpg
END:VEVENT
BEGIN:VEVENT
DTSTART;TZID=Europe/Paris:20250920T100000
DTEND;TZID=Europe/Paris:20250920T180000
DTSTAMP:20260421T121455
CREATED:20250830T122654Z
LAST-MODIFIED:20250830T122956Z
UID:7730-1758362400-1758391200@saintlouislesbitche.fr
SUMMARY:Programmation des Journées européennes du patrimoine Samedi 20 & dimanche 21 septembre 2025
DESCRIPTION:Visite guidée « Saint-Louis et l’architecture » \n\n\n\nÀ l’occasion de la 42e édition des Journées européennes du Patrimoine\, le musée Saint-Louis propose unevisite guidée mettant à l’honneur le thème annuel « Patrimoine architectural ».Tout récemment labellisée « Architecture contemporaine remarquable »\, (re)découvrez l’architectureinsolite et spectaculaire du musée qui\, depuis 2007\, offre un écrin majestueux aux pièces issues descollections patrimoniales et contemporaines de Saint-Louis.En suivant une visite guidée du musée\, vous explorez les collections permanentes sous toutes ses formesarchitecturales : des décors de pièces représentant des lieux emblématiques du patrimoine français etinternational mais aussi des lieux mythiques qui ont accueilli – ou accueillent encore – les plus bellespièces Saint-Louis. À découvrir également : « Les invités »\, exposition de Gretel WeyerUne proposition de la Fondation d’entreprise Hermès\, à découvrir jusqu’au 28 septembre 2025. \n\n\n\n\n\n\n\n © JP. MESGUEN
URL:https://saintlouislesbitche.fr/event/programmation-des-journees-europeennes-du-patrimoine-samedi-20-dimanche-21-septembre-2025
LOCATION:Rue Coetlosquet 57620 Saint Louis les Bitche
ATTACH;FMTTYPE=image/jpeg:https://saintlouislesbitche.fr/wp-content/uploads/2025/08/JPM6061-cmjn-jpmesguen-HD.jpg
ORGANIZER;CN="La Grande Place Mus%C3%A9e du cristal Saint-Louis":MAILTO:accueil.musee@saint-louis.com
END:VEVENT
BEGIN:VEVENT
DTSTART;TZID=Europe/Paris:20250907T090000
DTEND;TZID=Europe/Paris:20250907T170000
DTSTAMP:20260421T121455
CREATED:20250126T070933Z
LAST-MODIFIED:20250126T070935Z
UID:7376-1757235600-1757264400@saintlouislesbitche.fr
SUMMARY:Foulées du cristal
DESCRIPTION:La 18em Edition des foulées du cristal\, toujours le premier dimanche de septembre:         https://fouleesducristal.fr/
URL:https://saintlouislesbitche.fr/event/foulees-du-cristal
ATTACH;FMTTYPE=image/jpeg:https://saintlouislesbitche.fr/wp-content/uploads/2024/06/Logo.jpg
END:VEVENT
BEGIN:VEVENT
DTSTART;TZID=Europe/Paris:20250713T100000
DTEND;TZID=Europe/Paris:20250713T213000
DTSTAMP:20260421T121455
CREATED:20250115T123006Z
LAST-MODIFIED:20250707T084940Z
UID:7340-1752400800-1752442200@saintlouislesbitche.fr
SUMMARY:TRACTEURFESCHT
DESCRIPTION:Le programme: \n\n\n\nMenu Burger frites\, animations : Tiré de tracteur\, Lancé de haches\, sciage de buche\, jeu du clou\, porté de tronc etc……. \n\n\n\nDépart du défilé des tracteurs : 15h30 \n\n\n\nA partir de 18h Pizza et tarte flambée
URL:https://saintlouislesbitche.fr/event/tracteurfescht
ATTACH;FMTTYPE=image/jpeg:https://saintlouislesbitche.fr/wp-content/uploads/2025/01/Affiche_image.jpg
END:VEVENT
BEGIN:VEVENT
DTSTART;TZID=Europe/Paris:20250626T100000
DTEND;TZID=Europe/Paris:20250731T180000
DTSTAMP:20260421T121455
CREATED:20250626T052726Z
LAST-MODIFIED:20250626T052855Z
UID:7647-1750932000-1753984800@saintlouislesbitche.fr
SUMMARY:LA GRANDE PLACE MUSEE SAINT-LOUIS
DESCRIPTION:LA GRANDE PLACEMUSÉE SAINT-LOUISEt si La Grande Place\, musée Saint-Louis était votreprochaine destination estivale ? Le musée est inscrità l’intérieur de la manufacture\, au sein du Parc naturelrégional des Vosges du Nord et dans l’itinéraireÉtoiles Terrestres. Il présente l’histoire et l’actualitéde Saint-Louis au travers 2000 créations patrimonialeset contemporaines. Depuis le musée\, vous pourrezobserver les artisans de l’équipe “la grande place”\,reconnus pour leur virtuosité. Le nom du musée leurrend hommage. Au départ du musée\, vous pourrezégalement visiter la manufacture et le village\,berceaux du cristal de France et d’Europecontinentale. \n\n\n\nEXPOSITION TEMPORAIRELES INVITÉSMARDI ⟶ DIMANCHE: 10H ⟶ 13H & 14H ⟶ 18HGretel Weyer imagine “Les invités”\, une expositionconçue comme un déploiement d’histoires affranchiesde toute narration classique\, où l’ordinaire côtoiele fantastique. Dans les dioramas domestiquesqu’elle invite à découvrir\, les objets s’animent et setransforment\, les animaux surgissent dans l’intimitédu foyer\, la présence d’une forme de magie se faitsentir au cœur de la maison. On pense aux contesde fées sans parvenir néanmoins à situer parfaitementoù l’on a pu rencontrer ces serpents jaillissantd’une vasque ou cette chaise en poils. Une expositionen partenariat avec la Fondation d’entreprise Hermèset le musée d’Art moderne et contemporainde Strasbourg (MAMCS).SANS SUPPLÉMENT AU BILLET D’ENTRÉE DU MUSÉE
URL:https://saintlouislesbitche.fr/event/la-grande-place-musee-saint-louis
ATTACH;FMTTYPE=image/png:https://saintlouislesbitche.fr/wp-content/uploads/2025/06/banniere-avec-dates.png
ORGANIZER;CN="La Grande Place Mus%C3%A9e du cristal Saint-Louis":MAILTO:accueil.musee@saint-louis.com
END:VEVENT
BEGIN:VEVENT
DTSTART;TZID=Europe/Paris:20250623T133000
DTEND;TZID=Europe/Paris:20250706T180000
DTSTAMP:20260421T121455
CREATED:20250626T060824Z
LAST-MODIFIED:20250626T060953Z
UID:7656-1750685400-1751824800@saintlouislesbitche.fr
SUMMARY:PARTEZ À LA DÉCOUVERTE D'UN PATRIMOINE D'EXCEPTION
DESCRIPTION:PARTEZ À LA DÉCOUVERTE D’UN PATRIMOINE D’EXCEPTION  \n\n\n\nNichée au creux d’une vallée des Vosges du nord se trouve la cité cristallière de Saint-Louis-lès-Bitche  \n\n\n\nTous les deux ans à l’occasion de la Fête-Dieu\, un reposoir unique au monde apparaît au sein de l’église Saint-Louis \n\n\n\nTémoin de l’art traditionnel verrier\, ce reposoir est complété par un tabernacle et un ostensoir composés de 6000 pièces de cristal. Cette œuvre de plus de 5 mètres de haut réalisée par les maîtres verriers de la cristallerie Saint-Louis au siècle dernier\, a été exposée pour la première fois en 1910\, dans l’enceinte de la manufacture. \n\n\n\nVous avez jusqu’au 6 juillet 2025 pour la découvrir tous les jours de 13h30 à 18h00.
URL:https://saintlouislesbitche.fr/event/7656
ATTACH;FMTTYPE=image/jpeg:https://saintlouislesbitche.fr/wp-content/uploads/2025/06/Autel-scaled.jpg
END:VEVENT
BEGIN:VEVENT
DTSTART;TZID=Europe/Paris:20250622T100000
DTEND;TZID=Europe/Paris:20250622T190000
DTSTAMP:20260421T121455
CREATED:20250115T122203Z
LAST-MODIFIED:20250606T101216Z
UID:7336-1750586400-1750618800@saintlouislesbitche.fr
SUMMARY:Reposoir en cristal
DESCRIPTION:Vous pouvez réserver vos repas de midi pour le 22 juin par mail : fabriquestlouis.reposoir@gmail.com \n\n\n\nPlat du jour : Jambon chaud\, spaetzle et salade \n\n\n\nConsulter l’affiche en cliquant sur l’évènement \n\n\nFete-Dieu-2025-flyer
URL:https://saintlouislesbitche.fr/event/reposoir-en-cristal
ATTACH;FMTTYPE=image/jpeg:https://saintlouislesbitche.fr/wp-content/uploads/2023/05/Reposoir-2018-4-2048x1365-1.jpg
END:VEVENT
BEGIN:VEVENT
DTSTART;TZID=Europe/Paris:20250517T180000
DTEND;TZID=Europe/Paris:20250517T220000
DTSTAMP:20260421T121455
CREATED:20250417T062713Z
LAST-MODIFIED:20250417T062715Z
UID:7582-1747504800-1747519200@saintlouislesbitche.fr
SUMMARY:Nuit européenne des musées 
DESCRIPTION:Restitution du projet « Constellation »\, dispositif la classe l’œuvre !« Constellation » est un projet du collège la Paraison (Lemberg) en partenariat avec les musées des ÉtoilesTerrestres\, dans le cadre du dispositif La classe\, l’œuvre !. Cette année encore\, l’opération s’inscrit dansles événements artistiques et culturels de la Nuit européenne des musées.Pour l’édition 2025\, l’artiste vitrailliste Mylène Billand a mené des ateliers dans des classes de 4ème\, enlien avec la thématique « matières » et « outils » du verre et du cristal. Venez assister à la restitution parles élèves eux-mêmes. Ils présenterons les différentes phases de leurs créations exposées à cette occasion.La fougère et la canne à souffler sont les deux motifs choisis par les élèves pour les blasons de leursvitraux : apprenez-en plus sur cette plante et cet outil qui ont accompagné l’épopée verrière et tentez degagner une surprise en les retrouvant au sein du musée\, où sont exposées plus de 2 000 piècesexceptionnelles des collections du patrimoine Saint-Louis.Samedi 17 maiDe 18h à 22h : entrée gratuite au muséeDe 18h à 20h : présentations et échanges avec des élèves du collège La Paraison
URL:https://saintlouislesbitche.fr/event/nuit-europeenne-des-musees
ATTACH;FMTTYPE=image/jpeg:https://saintlouislesbitche.fr/wp-content/uploads/2025/04/Visuel_CP_ccollegeparaison.jpg
ORGANIZER;CN="La Grande Place Mus%C3%A9e du cristal Saint-Louis":MAILTO:accueil.musee@saint-louis.com
END:VEVENT
BEGIN:VEVENT
DTSTART;TZID=Europe/Paris:20250517T100000
DTEND;TZID=Europe/Paris:20250525T180000
DTSTAMP:20260421T121455
CREATED:20250328T084844Z
LAST-MODIFIED:20250328T084925Z
UID:7539-1747476000-1748196000@saintlouislesbitche.fr
SUMMARY:Ventes exceptionnelles
DESCRIPTION:
URL:https://saintlouislesbitche.fr/event/ventes-exceptionnelles
ATTACH;FMTTYPE=image/jpeg:https://saintlouislesbitche.fr/wp-content/uploads/2025/03/Capture.jpg
END:VEVENT
BEGIN:VEVENT
DTSTART;TZID=Europe/Paris:20250108T100000
DTEND;TZID=Europe/Paris:20251218T180000
DTSTAMP:20260421T121455
CREATED:20250109T172119Z
LAST-MODIFIED:20250109T172121Z
UID:7320-1736330400-1766080800@saintlouislesbitche.fr
SUMMARY:Les offres du musée "La Grande Place"
DESCRIPTION:Consultez les offres pour les visites de la manufacture et du musée
URL:https://saintlouislesbitche.fr/event/les-offres-du-musee-la-grande-place
END:VEVENT
END:VCALENDAR